BEGIN:VCALENDAR
VERSION:2.0
PRODID:-//Sannes Insurance - ECPv6.15.16.1//NONSGML v1.0//EN
CALSCALE:GREGORIAN
METHOD:PUBLISH
X-WR-CALNAME:Sannes Insurance
X-ORIGINAL-URL:https://sannesinsurance.com
X-WR-CALDESC:Events for Sannes Insurance
REFRESH-INTERVAL;VALUE=DURATION:PT1H
X-Robots-Tag:noindex
X-PUBLISHED-TTL:PT1H
BEGIN:VTIMEZONE
TZID:America/Los_Angeles
BEGIN:DAYLIGHT
TZOFFSETFROM:-0800
TZOFFSETTO:-0700
TZNAME:PDT
DTSTART:20230312T100000
END:DAYLIGHT
BEGIN:STANDARD
TZOFFSETFROM:-0700
TZOFFSETTO:-0800
TZNAME:PST
DTSTART:20231105T090000
END:STANDARD
BEGIN:DAYLIGHT
TZOFFSETFROM:-0800
TZOFFSETTO:-0700
TZNAME:PDT
DTSTART:20240310T100000
END:DAYLIGHT
BEGIN:STANDARD
TZOFFSETFROM:-0700
TZOFFSETTO:-0800
TZNAME:PST
DTSTART:20241103T090000
END:STANDARD
BEGIN:DAYLIGHT
TZOFFSETFROM:-0800
TZOFFSETTO:-0700
TZNAME:PDT
DTSTART:20250309T100000
END:DAYLIGHT
BEGIN:STANDARD
TZOFFSETFROM:-0700
TZOFFSETTO:-0800
TZNAME:PST
DTSTART:20251102T090000
END:STANDARD
END:VTIMEZONE
BEGIN:VEVENT
DTSTART;TZID=America/Los_Angeles:20241015T080000
DTEND;TZID=America/Los_Angeles:20241207T170000
DTSTAMP:20260423T092408
CREATED:20240620T074730Z
LAST-MODIFIED:20240902T032050Z
UID:8929-1728979200-1733590800@sannesinsurance.com
SUMMARY:Medicare Annual Enrollment Period
DESCRIPTION:Medicare Annual Enrollment Period- AEP\n  \nWhen’s the Medicare Annual Enrollment Period?\nEvery year\, Medicare’s open enrollment period is October 15 – December 7. \nWhat’s the Medicare Annual Enrollment Period?\nMedicare health and drug plans can make changes each year—things like cost\, coverage\, and what providers and pharmacies are in their networks. October 15 to December 7 is when all people with Medicare can change their Medicare health plans and prescription drug coverage for the following year to better meet their needs. \nHow do people know if they need to change plans?\nPeople in a Medicare health or prescription drug plan should always review the materials their plans send them\, like the “Evidence of Coverage” (EOC) and “Annual Notice of Change” (ANOC). If their plans are changing\, they should make sure their plans will still meet their needs for the following year. If they’re satisfied that their current plans will meet their needs for next year and it’s still being offered\, they don’t need to do anything. \nWhen can people get information about next year’s Medicare plans?\nInformation for next year’s plans will be available beginning in October. \nWhere can people find Medicare plan information or compare plans?\nContact Sannes Insurance! You can call us at 509-993-9887 or use our online calendar to schedule an appointment that’s convenient for you:  https://calendly.com/sannesinsurance \n 
URL:https://sannesinsurance.com/event/medicare-annual-enrollment-period/
LOCATION:AEP Sannes Insurance\, 100 N Mullan Rd\, Suite 101\, Spokane Valley\, WA\, 99206\, United States
ORGANIZER;CN="Mark Sannes":MAILTO:Marks@sannesinsurance.com
END:VEVENT
BEGIN:VEVENT
DTSTART;TZID=America/Los_Angeles:20240901T080000
DTEND;TZID=America/Los_Angeles:20240916T170000
DTSTAMP:20260423T092408
CREATED:20230620T153027Z
LAST-MODIFIED:20240902T032212Z
UID:8997-1725177600-1726506000@sannesinsurance.com
SUMMARY:Annual Client Letters
DESCRIPTION:We send our Annual Client Letters out to all of our clients and those who wish to have a Medicare Review (Doctors Contracted\, Prescription Drug Costs Analyzed\, Benefits Reviewed\, etc) can request this review. We will review the next years carrier plans and let you know if your plan is still good or if we should look at options. This is a great way to stay on top of the ever changing carrier plans and drug cost formularies. And we do this as a ‘free’ service to you!
URL:https://sannesinsurance.com/event/annual-client-letters/
LOCATION:AEP Sannes Insurance\, 100 N Mullan Rd\, Suite 101\, Spokane Valley\, WA\, 99206\, United States
ORGANIZER;CN="Mark Sannes":MAILTO:Marks@sannesinsurance.com
END:VEVENT
END:VCALENDAR